BEGIN:VCALENDAR
VERSION:2.0
PRODID:-//John-Henry Crawford - ECPv6.15.20//NONSGML v1.0//EN
CALSCALE:GREGORIAN
METHOD:PUBLISH
X-WR-CALNAME:John-Henry Crawford
X-ORIGINAL-URL:https://johnhenrycrawford.com
X-WR-CALDESC:Events for John-Henry Crawford
REFRESH-INTERVAL;VALUE=DURATION:PT1H
X-Robots-Tag:noindex
X-PUBLISHED-TTL:PT1H
BEGIN:VTIMEZONE
TZID:America/Chicago
BEGIN:DAYLIGHT
TZOFFSETFROM:-0600
TZOFFSETTO:-0500
TZNAME:CDT
DTSTART:20170312T080000
END:DAYLIGHT
BEGIN:STANDARD
TZOFFSETFROM:-0500
TZOFFSETTO:-0600
TZNAME:CST
DTSTART:20171105T070000
END:STANDARD
BEGIN:DAYLIGHT
TZOFFSETFROM:-0600
TZOFFSETTO:-0500
TZNAME:CDT
DTSTART:20180311T080000
END:DAYLIGHT
BEGIN:STANDARD
TZOFFSETFROM:-0500
TZOFFSETTO:-0600
TZNAME:CST
DTSTART:20181104T070000
END:STANDARD
BEGIN:DAYLIGHT
TZOFFSETFROM:-0600
TZOFFSETTO:-0500
TZNAME:CDT
DTSTART:20190310T080000
END:DAYLIGHT
BEGIN:STANDARD
TZOFFSETFROM:-0500
TZOFFSETTO:-0600
TZNAME:CST
DTSTART:20191103T070000
END:STANDARD
END:VTIMEZONE
BEGIN:VEVENT
DTSTART;TZID=America/Chicago:20181016T180000
DTEND;TZID=America/Chicago:20181016T180000
DTSTAMP:20260421T054645
CREATED:20181016T185859Z
LAST-MODIFIED:20181115T194914Z
UID:10000304-1539712800-1539712800@johnhenrycrawford.com
SUMMARY:Fontainebleau 2018 Gala Honoring Isabelle Duha
DESCRIPTION:Les Écoles d’Art Américaines de Fontainebleau  \nTuesday\, October 16\, 2018 from 6:00 PM to 10:00 PM (EDT) \nThe Water Club \n500 East 30th Street \nNew York\, New York \nTickets from 100-$5\,000 \nJohn-Henry Crawford\, cellist\, playing Boulanger
URL:https://johnhenrycrawford.com/event/fontainebleau-2018-gala-honoring-isabelle-duha/
LOCATION:The Water Club\, 500 East 30th Street\, New York\, NY\, 10016\, United States
CATEGORIES:2018
ATTACH;FMTTYPE=image/png:https://johnhenrycrawford.com/wp-content/uploads/2018/10/fountainblue.png
END:VEVENT
END:VCALENDAR