BEGIN:VCALENDAR
VERSION:2.0
PRODID:-//John-Henry Crawford - ECPv6.15.20//NONSGML v1.0//EN
CALSCALE:GREGORIAN
METHOD:PUBLISH
X-ORIGINAL-URL:https://johnhenrycrawford.com
X-WR-CALDESC:Events for John-Henry Crawford
REFRESH-INTERVAL;VALUE=DURATION:PT1H
X-Robots-Tag:noindex
X-PUBLISHED-TTL:PT1H
BEGIN:VTIMEZONE
TZID:America/Chicago
BEGIN:DAYLIGHT
TZOFFSETFROM:-0600
TZOFFSETTO:-0500
TZNAME:CDT
DTSTART:20160313T080000
END:DAYLIGHT
BEGIN:STANDARD
TZOFFSETFROM:-0500
TZOFFSETTO:-0600
TZNAME:CST
DTSTART:20161106T070000
END:STANDARD
BEGIN:DAYLIGHT
TZOFFSETFROM:-0600
TZOFFSETTO:-0500
TZNAME:CDT
DTSTART:20170312T080000
END:DAYLIGHT
BEGIN:STANDARD
TZOFFSETFROM:-0500
TZOFFSETTO:-0600
TZNAME:CST
DTSTART:20171105T070000
END:STANDARD
BEGIN:DAYLIGHT
TZOFFSETFROM:-0600
TZOFFSETTO:-0500
TZNAME:CDT
DTSTART:20180311T080000
END:DAYLIGHT
BEGIN:STANDARD
TZOFFSETFROM:-0500
TZOFFSETTO:-0600
TZNAME:CST
DTSTART:20181104T070000
END:STANDARD
END:VTIMEZONE
BEGIN:VEVENT
DTSTART;TZID=America/Chicago:20170404T193000
DTEND;TZID=America/Chicago:20170404T210000
DTSTAMP:20260425T223200
CREATED:20160930T161050Z
LAST-MODIFIED:20160930T161050Z
UID:10000395-1491334200-1491339600@johnhenrycrawford.com
SUMMARY:Cello Bello
DESCRIPTION:Clive Greensmith\, cello\nJohn-Henry Crawford\, cello\nMihai Marica\, cello\nDmitri Atapine\, cello\nHyeyeon Park\, piano \nticket information: You can purchase tickets at the door\, one hour prior to each performance\, or call the Nightingale Concert Hall Box Office Monday – Friday\, 9am – 4pm at 775-784-6145 \nThe Program The Argenta Concert Series concert on April 4 will be dedicated to celebrate the beautiful sound\, versatility\, and limitless capabilities of the cello. In the hands of cellists Clive Greensmith\, John-Henry Crawford\, Mihai Marica\, and Dmitri Atapine\, the Nightingale Concert Hall will resonate with diverse combinations for this instrument. Solos\, duos\, and trios by Bach\, Popper\, Offenbach\, Goltermann\, to name but a few\, will showcase the cello in all its glory to the delight of our audiences. Clive Greensmith has ben the cellist of the distinguished Tokyo Quartet and currently is on faculty at Coburn School in Los Angeles. John-Henry Crawford is the winner of multiple competitions\, performing with Philadelphia\, Memphis\, and Louisiana Symphonies. Mihai Marica is the winner of the Irving Klein and Luis Sigall Competitions and a member of the Chamber Music Society of Lincoln Center. Dmitri Atapine is the professor of cello at the University of Nevada\, Reno. Do not miss the events associated with this concert\, such as master-classes and workshops given by our guest artist as well as a free concert by the UNR Cello Ensemble. \nGeorg Golterman (1824-1898) Serenade for Four Cellos Op.119 No.2\nJohann Sebastian Bach (1685-1750) Cello Suite No.6 in D major\, BWV 1012 Prelude (1720)\nJacques Offenbach (1819-1880) Duo for Two Cellos in E major\, Op. 54 No. 2\nDavid Popper (1843-1913) Requiem for Three Cellos and Piano Op.66 (1892)\nFrédéric Chopin (1810-1849) Introduction and Polonaise Brillante\, Op.3 (1830)\nBohuslav Martinů (1890-1959) Variations on a Theme of Rossini (1942)\nJean-Baptiste Barrière (1707-1747) Sonata for Two Cellos in G major (1739)\nGyörgy Ligeti (1923-2005) Sonata for Cello Solo (1953)\nWilhelm Fitzenhagen (1848-1890) Concert-Walzer Op.31 (1880)
URL:https://johnhenrycrawford.com/event/cello-bello/
LOCATION:Nightingale Concert Hall\, 1335 N Virginia St\, Reno\, NV\, 89557\, United States
CATEGORIES:2017
ATTACH;FMTTYPE=image/jpeg:https://johnhenrycrawford.com/wp-content/uploads/2016/09/image008-1.jpg
GEO:39.5410215;-119.8165206
X-APPLE-STRUCTURED-LOCATION;VALUE=URI;X-ADDRESS=Nightingale Concert Hall 1335 N Virginia St Reno NV 89557 United States;X-APPLE-RADIUS=500;X-TITLE=1335 N Virginia St:geo:-119.8165206,39.5410215
END:VEVENT
END:VCALENDAR