BEGIN:VCALENDAR
VERSION:2.0
PRODID:-//John-Henry Crawford - ECPv6.15.20//NONSGML v1.0//EN
CALSCALE:GREGORIAN
METHOD:PUBLISH
X-WR-CALNAME:John-Henry Crawford
X-ORIGINAL-URL:https://johnhenrycrawford.com
X-WR-CALDESC:Events for John-Henry Crawford
REFRESH-INTERVAL;VALUE=DURATION:PT1H
X-Robots-Tag:noindex
X-PUBLISHED-TTL:PT1H
BEGIN:VTIMEZONE
TZID:America/Chicago
BEGIN:DAYLIGHT
TZOFFSETFROM:-0600
TZOFFSETTO:-0500
TZNAME:CDT
DTSTART:20160313T080000
END:DAYLIGHT
BEGIN:STANDARD
TZOFFSETFROM:-0500
TZOFFSETTO:-0600
TZNAME:CST
DTSTART:20161106T070000
END:STANDARD
BEGIN:DAYLIGHT
TZOFFSETFROM:-0600
TZOFFSETTO:-0500
TZNAME:CDT
DTSTART:20170312T080000
END:DAYLIGHT
BEGIN:STANDARD
TZOFFSETFROM:-0500
TZOFFSETTO:-0600
TZNAME:CST
DTSTART:20171105T070000
END:STANDARD
BEGIN:DAYLIGHT
TZOFFSETFROM:-0600
TZOFFSETTO:-0500
TZNAME:CDT
DTSTART:20180311T080000
END:DAYLIGHT
BEGIN:STANDARD
TZOFFSETFROM:-0500
TZOFFSETTO:-0600
TZNAME:CST
DTSTART:20181104T070000
END:STANDARD
END:VTIMEZONE
BEGIN:VEVENT
DTSTART;TZID=America/Chicago:20170428T190000
DTEND;TZID=America/Chicago:20170428T200000
DTSTAMP:20260425T172257
CREATED:20170501T145052Z
LAST-MODIFIED:20170501T145052Z
UID:10000399-1493406000-1493409600@johnhenrycrawford.com
SUMMARY:Fifty Seats Presents: New Music School
DESCRIPTION:John-Henry Crawford\, cello \nVictor Santiago Asuncion\, piano \nBenjamin Britten: Sonata in C\, Op.65 \nVan Parys: Chaconne for cello and piano \nSchubert “Arpeggione” Sonata \nPoulenc – Sonate Pour Violoncelle et Piano
URL:https://johnhenrycrawford.com/event/fifty-seats-presents-new-music-school/
LOCATION:New Music School\, 900 North Michigan Avenue\, Level 6\, Chicago\, IL\, 60611\, United States
CATEGORIES:2017
ATTACH;FMTTYPE=image/jpeg:https://johnhenrycrawford.com/wp-content/uploads/2017/05/image005-1.jpg
GEO:41.899573;-87.624826
X-APPLE-STRUCTURED-LOCATION;VALUE=URI;X-ADDRESS=New Music School 900 North Michigan Avenue Level 6 Chicago IL 60611 United States;X-APPLE-RADIUS=500;X-TITLE=900 North Michigan Avenue\, Level 6:geo:-87.624826,41.899573
END:VEVENT
END:VCALENDAR