BEGIN:VCALENDAR
VERSION:2.0
PRODID:-//John-Henry Crawford - ECPv6.15.20//NONSGML v1.0//EN
CALSCALE:GREGORIAN
METHOD:PUBLISH
X-ORIGINAL-URL:https://johnhenrycrawford.com
X-WR-CALDESC:Events for John-Henry Crawford
REFRESH-INTERVAL;VALUE=DURATION:PT1H
X-Robots-Tag:noindex
X-PUBLISHED-TTL:PT1H
BEGIN:VTIMEZONE
TZID:America/Chicago
BEGIN:DAYLIGHT
TZOFFSETFROM:-0600
TZOFFSETTO:-0500
TZNAME:CDT
DTSTART:20150308T080000
END:DAYLIGHT
BEGIN:STANDARD
TZOFFSETFROM:-0500
TZOFFSETTO:-0600
TZNAME:CST
DTSTART:20151101T070000
END:STANDARD
BEGIN:DAYLIGHT
TZOFFSETFROM:-0600
TZOFFSETTO:-0500
TZNAME:CDT
DTSTART:20160313T080000
END:DAYLIGHT
BEGIN:STANDARD
TZOFFSETFROM:-0500
TZOFFSETTO:-0600
TZNAME:CST
DTSTART:20161106T070000
END:STANDARD
BEGIN:DAYLIGHT
TZOFFSETFROM:-0600
TZOFFSETTO:-0500
TZNAME:CDT
DTSTART:20170312T080000
END:DAYLIGHT
BEGIN:STANDARD
TZOFFSETFROM:-0500
TZOFFSETTO:-0600
TZNAME:CST
DTSTART:20171105T070000
END:STANDARD
END:VTIMEZONE
BEGIN:VEVENT
DTSTART;TZID=America/Chicago:20160805T173000
DTEND;TZID=America/Chicago:20160805T193000
DTSTAMP:20260425T223241
CREATED:20160728T215619Z
LAST-MODIFIED:20160728T215619Z
UID:10000393-1470418200-1470425400@johnhenrycrawford.com
SUMMARY:Center for Performing Arts at Menlo-Atherton
DESCRIPTION:Music@Menlo \nInternational Program Artists \nPrelude Performance \n  \nMozart\, Quintet in g minor for Two Violins\, two Violas and Cello\, K. 516 \nDvorak\, Piano Trio in e minor\, Op. 90 \nShostakovich\, Piano Trio No. 2 in e minor \nShostakovich\, Preulde and Scherzo for String Octet\, Op. 11 \nARTISTS: Francisco Fullana\, Stephen Waarts\, Shannon Lee\, Stella Chen \nLisa Sung\, viola\, Sung Jin Lee \nJohn-Henry Crawford\, Yi Qun Xu\, Coleman Itzkoff\, cello \nFei-Fei Dong\, Henry Kramer\, piano \ninfo@musicatmenlo.org
URL:https://johnhenrycrawford.com/event/center-performing-arts-menlo-atherton-9/
LOCATION:Menlo Atherton Center for the Performing Arts\, 555 Middlefield Rd\, Atherton\, CA\, 94027\, United States
CATEGORIES:2016
ATTACH;FMTTYPE=image/jpeg:https://johnhenrycrawford.com/wp-content/uploads/2016/07/Center-for-Performing-Arts-at-Menlo-Atherton-1.jpg
GEO:37.460767;-122.1751142
X-APPLE-STRUCTURED-LOCATION;VALUE=URI;X-ADDRESS=Menlo Atherton Center for the Performing Arts 555 Middlefield Rd Atherton CA 94027 United States;X-APPLE-RADIUS=500;X-TITLE=555 Middlefield Rd:geo:-122.1751142,37.460767
END:VEVENT
BEGIN:VEVENT
DTSTART;TZID=America/Chicago:20160802T173000
DTEND;TZID=America/Chicago:20160802T193000
DTSTAMP:20260425T223241
CREATED:20160728T215524Z
LAST-MODIFIED:20160728T215524Z
UID:10000392-1470159000-1470166200@johnhenrycrawford.com
SUMMARY:Center for Performing Arts at Menlo-Atherton
DESCRIPTION:Music@Menlo \nInternational Program Artists \nPrelude Performance \nMozart\, Piano Trio in E Major\, K.542 \nSchumann\, Piano Quartet in E Flat Major\, Op. 47 \nARTISTS: Francisco Fullana\, Stephen Waarts \nLisa Sung\, viola \nJohn-Henry Crawford\, Yi Qun Xu\, cello \nHenry Kramer\, piano \ninfo@musicatmenlo.org \nphone 650-330-2016
URL:https://johnhenrycrawford.com/event/center-performing-arts-menlo-atherton-8/
LOCATION:Menlo Atherton Center for the Performing Arts\, 555 Middlefield Rd\, Atherton\, CA\, 94027\, United States
CATEGORIES:2016
ATTACH;FMTTYPE=image/jpeg:https://johnhenrycrawford.com/wp-content/uploads/2016/07/Center-for-Performing-Arts-at-Menlo-Atherton-1.jpg
GEO:37.460767;-122.1751142
X-APPLE-STRUCTURED-LOCATION;VALUE=URI;X-ADDRESS=Menlo Atherton Center for the Performing Arts 555 Middlefield Rd Atherton CA 94027 United States;X-APPLE-RADIUS=500;X-TITLE=555 Middlefield Rd:geo:-122.1751142,37.460767
END:VEVENT
BEGIN:VEVENT
DTSTART;TZID=America/Chicago:20160731T153000
DTEND;TZID=America/Chicago:20160731T173000
DTSTAMP:20260425T223241
CREATED:20160728T215425Z
LAST-MODIFIED:20160728T215425Z
UID:10000391-1469979000-1469986200@johnhenrycrawford.com
SUMMARY:Center for Performing Arts at Menlo-Atherton
DESCRIPTION:Music@Menlo \nInternational Program Artists \nPrelude Performance \nMozart\, Piano Trio in E Major\, K.542 \nBorodin\, String Quartet No. 2 in D Major \nArensky String Quartet No. 2 in A Minor for Violin\, Viola and Two Cellos\, Op.35 \nARTISTS: Francisco Fullana\, Stella Chen\, Shannon Lee \nSung Jin Lee\, viola \nJohn-Henry Crawford\, Coleman Itzkoff\, cello \nHenry Kramer\, piano \ninfo@musicatmenlo.org \nphone 650-330-2016
URL:https://johnhenrycrawford.com/event/center-performing-arts-menlo-atherton-7/
LOCATION:Menlo Atherton Center for the Performing Arts\, 555 Middlefield Rd\, Atherton\, CA\, 94027\, United States
CATEGORIES:2016
ATTACH;FMTTYPE=image/jpeg:https://johnhenrycrawford.com/wp-content/uploads/2016/07/Center-for-Performing-Arts-at-Menlo-Atherton-1.jpg
GEO:37.460767;-122.1751142
X-APPLE-STRUCTURED-LOCATION;VALUE=URI;X-ADDRESS=Menlo Atherton Center for the Performing Arts 555 Middlefield Rd Atherton CA 94027 United States;X-APPLE-RADIUS=500;X-TITLE=555 Middlefield Rd:geo:-122.1751142,37.460767
END:VEVENT
BEGIN:VEVENT
DTSTART;TZID=America/Chicago:20160729T173000
DTEND;TZID=America/Chicago:20160729T193000
DTSTAMP:20260425T223241
CREATED:20160728T215324Z
LAST-MODIFIED:20160728T215324Z
UID:10000390-1469813400-1469820600@johnhenrycrawford.com
SUMMARY:Center for Performing Arts at Menlo-Atherton
DESCRIPTION:Music@Menlo \nInternational Program Artists \nPrelude Performance \nBrahms\, Sonata in D Minor for Violin and Piano\, Op.108 \nArensky String Quartet No. 2 in A Minor for Violin\, Viola and Two Cellos\, Op.35 \nARTISTS: Francisco Fullana\, Stella Chen \nLisa Sung\, viola \nJohn-Henry Crawford\, Yi Qun Xu\, cello \nFei-Fei Dong\, piano \ninfo@musicatmenlo.org \nphone 650-330-2016
URL:https://johnhenrycrawford.com/event/center-performing-arts-menlo-atherton-6/
LOCATION:Menlo Atherton Center for the Performing Arts\, 555 Middlefield Rd\, Atherton\, CA\, 94027\, United States
CATEGORIES:2016
ATTACH;FMTTYPE=image/jpeg:https://johnhenrycrawford.com/wp-content/uploads/2016/07/Center-for-Performing-Arts-at-Menlo-Atherton-1.jpg
GEO:37.460767;-122.1751142
X-APPLE-STRUCTURED-LOCATION;VALUE=URI;X-ADDRESS=Menlo Atherton Center for the Performing Arts 555 Middlefield Rd Atherton CA 94027 United States;X-APPLE-RADIUS=500;X-TITLE=555 Middlefield Rd:geo:-122.1751142,37.460767
END:VEVENT
BEGIN:VEVENT
DTSTART;TZID=America/Chicago:20160727T173000
DTEND;TZID=America/Chicago:20160727T193000
DTSTAMP:20260425T223241
CREATED:20160728T215230Z
LAST-MODIFIED:20160728T215230Z
UID:10000389-1469640600-1469647800@johnhenrycrawford.com
SUMMARY:Center for Performing Arts at Menlo-Atherton
DESCRIPTION:Music@Menlo \nInternational Program Artists \nPrelude Performance \nArensky String Quartet No. 2 in A Minor for Violin\, Viola and Two Cellos\, Op.35 \nFranck\, Piano Quintet in F Minor \nARTISTS: Francisco Fullana\, Shannon Lee\, Stephen Waarts\, violin \nSung Jin Lee\, Lisa Sung\, viola \nJohn-Henry Crawford\, Coleman Itzkoff\, Yi Qun Xu\, cello \nHenry Kramer\, piano \ninfo@musicatmenlo.org \nphone 650-330-2016
URL:https://johnhenrycrawford.com/event/center-performing-arts-menlo-atherton-5/
LOCATION:Menlo Atherton Center for the Performing Arts\, 555 Middlefield Rd\, Atherton\, CA\, 94027\, United States
CATEGORIES:2016
ATTACH;FMTTYPE=image/jpeg:https://johnhenrycrawford.com/wp-content/uploads/2016/07/Center-for-Performing-Arts-at-Menlo-Atherton-1.jpg
GEO:37.460767;-122.1751142
X-APPLE-STRUCTURED-LOCATION;VALUE=URI;X-ADDRESS=Menlo Atherton Center for the Performing Arts 555 Middlefield Rd Atherton CA 94027 United States;X-APPLE-RADIUS=500;X-TITLE=555 Middlefield Rd:geo:-122.1751142,37.460767
END:VEVENT
BEGIN:VEVENT
DTSTART;TZID=America/Chicago:20160722T173000
DTEND;TZID=America/Chicago:20160722T193000
DTSTAMP:20260425T223241
CREATED:20160728T215022Z
LAST-MODIFIED:20160728T215022Z
UID:10000388-1469208600-1469215800@johnhenrycrawford.com
SUMMARY:Center for Performing Arts at Menlo-Atherton
DESCRIPTION:Music@Menlo \nInternational Program Artists \nPrelude Performance \nBritten\, Sonata in C Major for Cello and Piano \nDvorak\, Piano Quintet in A Major\, Op. 81 \nARTISTS: Shannon Lee\, Stephen Waarts\, violin \nLisa Sung\, viola \nJohn-Henry Crawford\, Coleman Itzkoff\, cello \nFei-Fei Dong\, Henry Kramer\, piano \ninfo@musicatmenlo.org \nphone 650-330-2016
URL:https://johnhenrycrawford.com/event/center-performing-arts-menlo-atherton-4/
LOCATION:Menlo Atherton Center for the Performing Arts\, 555 Middlefield Rd\, Atherton\, CA\, 94027\, United States
CATEGORIES:2016
ATTACH;FMTTYPE=image/jpeg:https://johnhenrycrawford.com/wp-content/uploads/2016/07/Center-for-Performing-Arts-at-Menlo-Atherton-1.jpg
GEO:37.460767;-122.1751142
X-APPLE-STRUCTURED-LOCATION;VALUE=URI;X-ADDRESS=Menlo Atherton Center for the Performing Arts 555 Middlefield Rd Atherton CA 94027 United States;X-APPLE-RADIUS=500;X-TITLE=555 Middlefield Rd:geo:-122.1751142,37.460767
END:VEVENT
BEGIN:VEVENT
DTSTART;TZID=America/Chicago:20160721T170000
DTEND;TZID=America/Chicago:20160721T190000
DTSTAMP:20260425T223241
CREATED:20160728T214902Z
LAST-MODIFIED:20160728T214902Z
UID:10000387-1469120400-1469127600@johnhenrycrawford.com
SUMMARY:Center for Performing Arts at Menlo-Atherton
DESCRIPTION:Music@Menlo \nInternational Program Artists \nPrelude Performance \nBeethoven String Quartet in F Minor\, Op. 95\, Serioso \nShostakovich\, Adagio and Allegretto (Elegy and Polka) for String Quartet \nDvorak\, Piano Quintet in A Major\, Op. 81 \nARTISTS: Stella Chen\, Francisco Fullana\, Shannon Lee\, Stephen Waarts\, violin \nSung Jin Lee and Lisa Sung\, viola \nJohn-Henry Crawford\, Yi Qun Xu\, cello \nFei-Fei Dong\, piano \ninfo@musicatmenlo.org \nphone 650-330-2016
URL:https://johnhenrycrawford.com/event/center-performing-arts-menlo-atherton-3/
LOCATION:Menlo Atherton Center for the Performing Arts\, 555 Middlefield Rd\, Atherton\, CA\, 94027\, United States
CATEGORIES:2016
ATTACH;FMTTYPE=image/jpeg:https://johnhenrycrawford.com/wp-content/uploads/2016/07/Center-for-Performing-Arts-at-Menlo-Atherton-1.jpg
GEO:37.460767;-122.1751142
X-APPLE-STRUCTURED-LOCATION;VALUE=URI;X-ADDRESS=Menlo Atherton Center for the Performing Arts 555 Middlefield Rd Atherton CA 94027 United States;X-APPLE-RADIUS=500;X-TITLE=555 Middlefield Rd:geo:-122.1751142,37.460767
END:VEVENT
BEGIN:VEVENT
DTSTART;TZID=America/Chicago:20160719T173000
DTEND;TZID=America/Chicago:20160719T193000
DTSTAMP:20260425T223241
CREATED:20160728T214732Z
LAST-MODIFIED:20160728T214732Z
UID:10000386-1468949400-1468956600@johnhenrycrawford.com
SUMMARY:Center for Performing Arts at Menlo-Atherton
DESCRIPTION:Music@Menlo \nInternational Program Artists \nPrelude Performance \nBeethoven\, Piano Trio in E-flat major\, Op. 1\, No. 1 \nShostakovich Quartet No. 7 in f sharp\, Op.108 \nARTISTS:  Stella Chen\, Shannon Lee\, Stephen Waarts\, violin \nLisa Sung\, viola \nJohn-Henry Crawford\, Coleman Itzkoff\, cello \nFei-Fei Dong\, piano \ninfo@musicatmenlo.org \nphone 650-330-2016
URL:https://johnhenrycrawford.com/event/center-performing-arts-menlo-atherton-2/
LOCATION:Menlo Atherton Center for the Performing Arts\, 555 Middlefield Rd\, Atherton\, CA\, 94027\, United States
CATEGORIES:2016
ATTACH;FMTTYPE=image/jpeg:https://johnhenrycrawford.com/wp-content/uploads/2016/07/Center-for-Performing-Arts-at-Menlo-Atherton-1.jpg
GEO:37.460767;-122.1751142
X-APPLE-STRUCTURED-LOCATION;VALUE=URI;X-ADDRESS=Menlo Atherton Center for the Performing Arts 555 Middlefield Rd Atherton CA 94027 United States;X-APPLE-RADIUS=500;X-TITLE=555 Middlefield Rd:geo:-122.1751142,37.460767
END:VEVENT
BEGIN:VEVENT
DTSTART;TZID=America/Chicago:20160717T153000
DTEND;TZID=America/Chicago:20160717T170000
DTSTAMP:20260425T223241
CREATED:20160728T193843Z
LAST-MODIFIED:20160728T193843Z
UID:10000385-1468769400-1468774800@johnhenrycrawford.com
SUMMARY:Center for Performing Arts at Menlo-Atherton
DESCRIPTION:Music@Menlo \nInternational Program Artists \nPrelude Performance \nBeethoven\, Piano Trio in E-flat major\, Op. 1\, No. 1 \nBrahms Piano Quartet No. 3 in c Minot\, Op. 60 \nARTISTS: Francisco Fullana\, Shannon Lee\, violins \nSung Jin Lee\, viola \nJohn-Henry Crawford\, Yi Qun Xu\, cello \nFei-Fei Dong\, Henry Kramer\, piano \ninfo@musicatmenlo.org \nphone 650-330-2016
URL:https://johnhenrycrawford.com/event/center-performing-arts-menlo-atherton/
LOCATION:Menlo Atherton Center for the Performing Arts\, 555 Middlefield Rd\, Atherton\, CA\, 94027\, United States
CATEGORIES:2016
ATTACH;FMTTYPE=image/jpeg:https://johnhenrycrawford.com/wp-content/uploads/2016/07/Center-for-Performing-Arts-at-Menlo-Atherton-1.jpg
GEO:37.460767;-122.1751142
X-APPLE-STRUCTURED-LOCATION;VALUE=URI;X-ADDRESS=Menlo Atherton Center for the Performing Arts 555 Middlefield Rd Atherton CA 94027 United States;X-APPLE-RADIUS=500;X-TITLE=555 Middlefield Rd:geo:-122.1751142,37.460767
END:VEVENT
END:VCALENDAR