BEGIN:VCALENDAR
VERSION:2.0
PRODID:-//John-Henry Crawford - ECPv6.15.20//NONSGML v1.0//EN
CALSCALE:GREGORIAN
METHOD:PUBLISH
X-WR-CALNAME:John-Henry Crawford
X-ORIGINAL-URL:https://johnhenrycrawford.com
X-WR-CALDESC:Events for John-Henry Crawford
REFRESH-INTERVAL;VALUE=DURATION:PT1H
X-Robots-Tag:noindex
X-PUBLISHED-TTL:PT1H
BEGIN:VTIMEZONE
TZID:America/Chicago
BEGIN:DAYLIGHT
TZOFFSETFROM:-0600
TZOFFSETTO:-0500
TZNAME:CDT
DTSTART:20140309T080000
END:DAYLIGHT
BEGIN:STANDARD
TZOFFSETFROM:-0500
TZOFFSETTO:-0600
TZNAME:CST
DTSTART:20141102T070000
END:STANDARD
BEGIN:DAYLIGHT
TZOFFSETFROM:-0600
TZOFFSETTO:-0500
TZNAME:CDT
DTSTART:20150308T080000
END:DAYLIGHT
BEGIN:STANDARD
TZOFFSETFROM:-0500
TZOFFSETTO:-0600
TZNAME:CST
DTSTART:20151101T070000
END:STANDARD
BEGIN:DAYLIGHT
TZOFFSETFROM:-0600
TZOFFSETTO:-0500
TZNAME:CDT
DTSTART:20160313T080000
END:DAYLIGHT
BEGIN:STANDARD
TZOFFSETFROM:-0500
TZOFFSETTO:-0600
TZNAME:CST
DTSTART:20161106T070000
END:STANDARD
END:VTIMEZONE
BEGIN:VEVENT
DTSTART;TZID=America/Chicago:20150503T143000
DTEND;TZID=America/Chicago:20150503T163000
DTSTAMP:20260425T223036
CREATED:20150311T230029Z
LAST-MODIFIED:20150311T230029Z
UID:10000367-1430663400-1430670600@johnhenrycrawford.com
SUMMARY:Memphis Symphony Orchestra
DESCRIPTION:Beethoven Triple Concerto \nBeethoven Symphony No. 9 (Choral) \nMei-Ann Chen\, conductor \nAdé Williams\, violin\nJohn-Henry Crawford\, cello\nVictor Asunción\, piano\nMary Wilson\, soprano\nAngela Horn-Barrett\, mezzo soprano\nRobert Breault\, tenor\nThomas Barrett\, baritone\nMemphis Symphony Chorus\nDr. Lawrence Edwards\, director\nRhodes Master Singers\nDr. William Skoog\, director \ntickets@memphissymphony.org
URL:https://johnhenrycrawford.com/event/memphis-symphony-orchestra-2/
LOCATION:Germantown Performing Arts Center\, Memphis\, TN\, United States
CATEGORIES:2015
ATTACH;FMTTYPE=image/png:https://johnhenrycrawford.com/wp-content/uploads/2015/03/Untitled1-1.png
GEO:35.1495343;-90.0489801
END:VEVENT
END:VCALENDAR