BEGIN:VCALENDAR
VERSION:2.0
PRODID:-//John-Henry Crawford - ECPv6.15.20//NONSGML v1.0//EN
CALSCALE:GREGORIAN
METHOD:PUBLISH
X-ORIGINAL-URL:https://johnhenrycrawford.com
X-WR-CALDESC:Events for John-Henry Crawford
REFRESH-INTERVAL;VALUE=DURATION:PT1H
X-Robots-Tag:noindex
X-PUBLISHED-TTL:PT1H
BEGIN:VTIMEZONE
TZID:America/Chicago
BEGIN:DAYLIGHT
TZOFFSETFROM:-0600
TZOFFSETTO:-0500
TZNAME:CDT
DTSTART:20160313T080000
END:DAYLIGHT
BEGIN:STANDARD
TZOFFSETFROM:-0500
TZOFFSETTO:-0600
TZNAME:CST
DTSTART:20161106T070000
END:STANDARD
BEGIN:DAYLIGHT
TZOFFSETFROM:-0600
TZOFFSETTO:-0500
TZNAME:CDT
DTSTART:20170312T080000
END:DAYLIGHT
BEGIN:STANDARD
TZOFFSETFROM:-0500
TZOFFSETTO:-0600
TZNAME:CST
DTSTART:20171105T070000
END:STANDARD
BEGIN:DAYLIGHT
TZOFFSETFROM:-0600
TZOFFSETTO:-0500
TZNAME:CDT
DTSTART:20180311T080000
END:DAYLIGHT
BEGIN:STANDARD
TZOFFSETFROM:-0500
TZOFFSETTO:-0600
TZNAME:CST
DTSTART:20181104T070000
END:STANDARD
END:VTIMEZONE
BEGIN:VEVENT
DTSTART;TZID=America/Chicago:20170501T190000
DTEND;TZID=America/Chicago:20170501T200000
DTSTAMP:20260425T173132
CREATED:20170501T145254Z
LAST-MODIFIED:20170501T145254Z
UID:10000400-1493665200-1493668800@johnhenrycrawford.com
SUMMARY:William Harris Lee and Co Concert
DESCRIPTION:John-Henry Crawford\, cello \nVictor Santiago Asuncion\, piano \nBach Suite No. 6 in D major \nHaydn Concerto in C Major \nSchubert “Arpeggione” Sonata \nYsaye Sonata Op. 28
URL:https://johnhenrycrawford.com/event/william-harris-lee-co-concert/
LOCATION:Fine Arts Building\, 410 S. Michigan Ave. Ste. 560\, Chicago\, IL\, 60605\, United States
CATEGORIES:2017
ATTACH;FMTTYPE=image/jpeg:https://johnhenrycrawford.com/wp-content/uploads/2017/05/image004-1.jpg
GEO:41.8764857;-87.624874
X-APPLE-STRUCTURED-LOCATION;VALUE=URI;X-ADDRESS=Fine Arts Building 410 S. Michigan Ave. Ste. 560 Chicago IL 60605 United States;X-APPLE-RADIUS=500;X-TITLE=410 S. Michigan Ave. Ste. 560:geo:-87.624874,41.8764857
END:VEVENT
END:VCALENDAR