BEGIN:VCALENDAR
VERSION:2.0
PRODID:-//John-Henry Crawford - ECPv6.15.20//NONSGML v1.0//EN
CALSCALE:GREGORIAN
METHOD:PUBLISH
X-WR-CALNAME:John-Henry Crawford
X-ORIGINAL-URL:https://johnhenrycrawford.com
X-WR-CALDESC:Events for John-Henry Crawford
REFRESH-INTERVAL;VALUE=DURATION:PT1H
X-Robots-Tag:noindex
X-PUBLISHED-TTL:PT1H
BEGIN:VTIMEZONE
TZID:America/Chicago
BEGIN:DAYLIGHT
TZOFFSETFROM:-0600
TZOFFSETTO:-0500
TZNAME:CDT
DTSTART:20170312T080000
END:DAYLIGHT
BEGIN:STANDARD
TZOFFSETFROM:-0500
TZOFFSETTO:-0600
TZNAME:CST
DTSTART:20171105T070000
END:STANDARD
BEGIN:DAYLIGHT
TZOFFSETFROM:-0600
TZOFFSETTO:-0500
TZNAME:CDT
DTSTART:20180311T080000
END:DAYLIGHT
BEGIN:STANDARD
TZOFFSETFROM:-0500
TZOFFSETTO:-0600
TZNAME:CST
DTSTART:20181104T070000
END:STANDARD
BEGIN:DAYLIGHT
TZOFFSETFROM:-0600
TZOFFSETTO:-0500
TZNAME:CDT
DTSTART:20190310T080000
END:DAYLIGHT
BEGIN:STANDARD
TZOFFSETFROM:-0500
TZOFFSETTO:-0600
TZNAME:CST
DTSTART:20191103T070000
END:STANDARD
END:VTIMEZONE
BEGIN:VEVENT
DTSTART;TZID=America/Chicago:20181117T193000
DTEND;TZID=America/Chicago:20181117T193000
DTSTAMP:20260425T172354
CREATED:20181115T191938Z
LAST-MODIFIED:20181115T195026Z
UID:10000306-1542483000-1542483000@johnhenrycrawford.com
SUMMARY:Massive on the Cello: The Dvořák
DESCRIPTION:Massivemuses are extra big\, extra special\ngroupmuses organized by the Groupmuse team.\nSaturday\, November 17\, 2018 at 7:30PM\, Brooklyn\, NY \nBedford-Stuyvesant\, NY \nhttps://www.groupmuse.com/calendar   Tickets $20 \n \nJohn-Henry Crawford\nCello \nAntonin Dvořák\nCello Concerto in B minor\, Op. 104 \nPiotr Tchaikovsky\nAndante Cantabile for Cello and Chamber Orchestra \nAntonín Dvořák: The presiding Deity of the Bohemian Romantic. A man with a heart so big and an inner world so deep that more than a century after his death\, his string quartets raise the roof of Groupmuse living rooms practically every single week of the year. \nAnd now\, in its Massivemuse debut\, we present what is arguably his supreme act of expression: The Dvořák Cello Concerto\, a titanic achievement\, full of love and blood and sorrow and ecstasy. We’ll sit at the feet of John-Henry Crawford\, a 25 year-old rising superstar of the cello\, as he absolutely shreds — backed by an 11-player ensemble in an arrangement small enough for Groupmuse\, but big enough for a tsunami of sound. \nIt’s going down at a gritty palace in Bushwick — the enormous and glorious performance space at BKLYN Commons\, just a minute walk from the Flushing stop on the J\, Z\, and M. \nAnd oh how we’re gonna get cozy — bring a blanket\, floor cushion\, pillows\, etc. so we can snuggle on the floor while we are carried away by the sea of Dvořák’s Romantic genius. \nSo bring out your air violins and prepare to rock out to an evening sure to blow our minds. \nCan’t wait to share it with you\, NYC!
URL:https://johnhenrycrawford.com/event/massive-on-the-cello-the-dvorak/
LOCATION:BKLYN Commons\, 7 Marcus Garvey Blvd\, Brooklyn\, NY\, 11206\, United States
CATEGORIES:2018
ATTACH;FMTTYPE=image/jpeg:https://johnhenrycrawford.com/wp-content/uploads/2018/05/cello-completing-world-journey.jpg
END:VEVENT
END:VCALENDAR