BEGIN:VCALENDAR
VERSION:2.0
PRODID:-//John-Henry Crawford - ECPv6.15.20//NONSGML v1.0//EN
CALSCALE:GREGORIAN
METHOD:PUBLISH
X-ORIGINAL-URL:https://johnhenrycrawford.com
X-WR-CALDESC:Events for John-Henry Crawford
REFRESH-INTERVAL;VALUE=DURATION:PT1H
X-Robots-Tag:noindex
X-PUBLISHED-TTL:PT1H
BEGIN:VTIMEZONE
TZID:America/Chicago
BEGIN:DAYLIGHT
TZOFFSETFROM:-0600
TZOFFSETTO:-0500
TZNAME:CDT
DTSTART:20200308T080000
END:DAYLIGHT
BEGIN:STANDARD
TZOFFSETFROM:-0500
TZOFFSETTO:-0600
TZNAME:CST
DTSTART:20201101T070000
END:STANDARD
BEGIN:DAYLIGHT
TZOFFSETFROM:-0600
TZOFFSETTO:-0500
TZNAME:CDT
DTSTART:20210314T080000
END:DAYLIGHT
BEGIN:STANDARD
TZOFFSETFROM:-0500
TZOFFSETTO:-0600
TZNAME:CST
DTSTART:20211107T070000
END:STANDARD
BEGIN:DAYLIGHT
TZOFFSETFROM:-0600
TZOFFSETTO:-0500
TZNAME:CDT
DTSTART:20220313T080000
END:DAYLIGHT
BEGIN:STANDARD
TZOFFSETFROM:-0500
TZOFFSETTO:-0600
TZNAME:CST
DTSTART:20221106T070000
END:STANDARD
BEGIN:DAYLIGHT
TZOFFSETFROM:-0600
TZOFFSETTO:-0500
TZNAME:CDT
DTSTART:20230312T080000
END:DAYLIGHT
BEGIN:STANDARD
TZOFFSETFROM:-0500
TZOFFSETTO:-0600
TZNAME:CST
DTSTART:20231105T070000
END:STANDARD
BEGIN:DAYLIGHT
TZOFFSETFROM:-0600
TZOFFSETTO:-0500
TZNAME:CDT
DTSTART:20240310T080000
END:DAYLIGHT
BEGIN:STANDARD
TZOFFSETFROM:-0500
TZOFFSETTO:-0600
TZNAME:CST
DTSTART:20241103T070000
END:STANDARD
BEGIN:DAYLIGHT
TZOFFSETFROM:-0600
TZOFFSETTO:-0500
TZNAME:CDT
DTSTART:20250309T080000
END:DAYLIGHT
BEGIN:STANDARD
TZOFFSETFROM:-0500
TZOFFSETTO:-0600
TZNAME:CST
DTSTART:20251102T070000
END:STANDARD
END:VTIMEZONE
BEGIN:VEVENT
DTSTART;VALUE=DATE:20240229
DTEND;VALUE=DATE:20240301
DTSTAMP:20260425T155540
CREATED:20240402T180037Z
LAST-MODIFIED:20240404T181223Z
UID:10000436-1709164800-1709251199@johnhenrycrawford.com
SUMMARY:Corazón: The Music of Latin America with Victor Santiago Asuncion
DESCRIPTION:
URL:https://johnhenrycrawford.com/event/corazon-the-music-of-latin-america-with-victor-santiago-asuncion/
LOCATION:El Paso Pro Musica\, UTEP\, 500 W. University\, El Paso\, TX\, 79913\, United States
CATEGORIES:2024
END:VEVENT
BEGIN:VEVENT
DTSTART;VALUE=DATE:20231210
DTEND;VALUE=DATE:20231211
DTSTAMP:20260425T155540
CREATED:20240402T175913Z
LAST-MODIFIED:20240404T181258Z
UID:10000435-1702166400-1702252799@johnhenrycrawford.com
SUMMARY:Clara Schumann Piano Trio\, Boulanger Trois Pieces. with Philippe Quint and Jessica Choe
DESCRIPTION:
URL:https://johnhenrycrawford.com/event/clara-schumann-piano-trio-boulanger-trois-pieces-with-philippe-quint-and-jessica-choe/
LOCATION:WFMT Radio Performance\, Chicago\, IL\, United States
CATEGORIES:2023
END:VEVENT
BEGIN:VEVENT
DTSTART;VALUE=DATE:20231114
DTEND;VALUE=DATE:20231115
DTSTAMP:20260425T155540
CREATED:20231012T174201Z
LAST-MODIFIED:20240404T181258Z
UID:10000434-1699920000-1700006399@johnhenrycrawford.com
SUMMARY:Montreal Chamber Music Festival Classics to Jazz!
DESCRIPTION:
URL:https://johnhenrycrawford.com/event/montreal-chamber-music-festival-classics-to-jazz/
LOCATION:TD Bank\, NYC at One Vanderbilt\, 1 Vanderbilt Avenue\, New York\, NY\, 10017\, United States
CATEGORIES:2023
END:VEVENT
BEGIN:VEVENT
DTSTART;VALUE=DATE:20231015
DTEND;VALUE=DATE:20231016
DTSTAMP:20260425T155540
CREATED:20230620T193852Z
LAST-MODIFIED:20240404T181258Z
UID:10000428-1697328000-1697414399@johnhenrycrawford.com
SUMMARY:Texas Street Arts Series
DESCRIPTION:
URL:https://johnhenrycrawford.com/event/texas-street-arts-series-2/
LOCATION:First United Methodist Church\, 5550 Common Street\, Shreveport\, LA\, 71101\, United States
CATEGORIES:2023
END:VEVENT
BEGIN:VEVENT
DTSTART;TZID=America/Chicago:20231003T193000
DTEND;TZID=America/Chicago:20231003T193000
DTSTAMP:20260425T155540
CREATED:20230620T193730Z
LAST-MODIFIED:20240404T181258Z
UID:10000427-1696361400-1696361400@johnhenrycrawford.com
SUMMARY:Carnegie Hall Debut (Weill)
DESCRIPTION:
URL:https://johnhenrycrawford.com/event/carnegie-hall-debut-weill/
LOCATION:Carnegie Hall\, 881 7th Ave\, Second Floor\, New York\, NY\, 10019-3210\, United States
CATEGORIES:2023
END:VEVENT
BEGIN:VEVENT
DTSTART;VALUE=DATE:20230917
DTEND;VALUE=DATE:20230918
DTSTAMP:20260425T155540
CREATED:20230620T194019Z
LAST-MODIFIED:20240404T181258Z
UID:10000429-1694908800-1694995199@johnhenrycrawford.com
SUMMARY:Memphis Chamber Music Society
DESCRIPTION:
URL:https://johnhenrycrawford.com/event/memphis-chamber-music-society-4/
LOCATION:Memphis Chamber Music Society\, Memphis\, TN\, United States
CATEGORIES:2023
GEO:35.1007341;-89.9681013
END:VEVENT
BEGIN:VEVENT
DTSTART;VALUE=DATE:20230913
DTEND;VALUE=DATE:20230914
DTSTAMP:20260425T155540
CREATED:20230620T194106Z
LAST-MODIFIED:20240404T181258Z
UID:10000430-1694563200-1694649599@johnhenrycrawford.com
SUMMARY:Dame Myra Hess Series
DESCRIPTION:
URL:https://johnhenrycrawford.com/event/dame-myra-hess-series/
LOCATION:Dame Myra Hess Series\, Chicago\, IL\, United States
CATEGORIES:2023
END:VEVENT
BEGIN:VEVENT
DTSTART;VALUE=DATE:20230628
DTEND;VALUE=DATE:20230716
DTSTAMP:20260425T155540
CREATED:20230620T194157Z
LAST-MODIFIED:20240404T181258Z
UID:10000431-1687910400-1689465599@johnhenrycrawford.com
SUMMARY:Sitka Music Festival
DESCRIPTION:
URL:https://johnhenrycrawford.com/event/sitka-music-festival/
LOCATION:Sitka Music Festival\, Sitka\, AK\, United States
CATEGORIES:2023
END:VEVENT
BEGIN:VEVENT
DTSTART;VALUE=DATE:20230624
DTEND;VALUE=DATE:20230625
DTSTAMP:20260425T155540
CREATED:20230620T194316Z
LAST-MODIFIED:20240404T181258Z
UID:10000432-1687564800-1687651199@johnhenrycrawford.com
SUMMARY:Music of Rachmaninoff
DESCRIPTION:
URL:https://johnhenrycrawford.com/event/music-of-rachmaninoff/
LOCATION:UN Chamber Music Society\, New York\, NY\, United States
CATEGORIES:2023
END:VEVENT
BEGIN:VEVENT
DTSTART;VALUE=DATE:20230611
DTEND;VALUE=DATE:20230619
DTSTAMP:20260425T155540
CREATED:20230620T194555Z
LAST-MODIFIED:20240404T181258Z
UID:10000433-1686441600-1687132799@johnhenrycrawford.com
SUMMARY:Methow Valley Chamber Festival
DESCRIPTION:
URL:https://johnhenrycrawford.com/event/methow-valley-chamber-festival/
LOCATION:Methow Valley Chamber Festival\, Twisp\, WA\, United States
CATEGORIES:2023
END:VEVENT
BEGIN:VEVENT
DTSTART;VALUE=DATE:20230529
DTEND;VALUE=DATE:20230530
DTSTAMP:20260425T155540
CREATED:20230314T143031Z
LAST-MODIFIED:20240404T181259Z
UID:10000421-1685318400-1685404799@johnhenrycrawford.com
SUMMARY:Recital with Victor Santiago Asuncion
DESCRIPTION:
URL:https://johnhenrycrawford.com/event/recital-with-victor-santiago-asuncion/
LOCATION:Sociedad Filarmónica de Las Palmas de Gran Canaria\, 35002 Las Palmas de Gran Canaria\, Las Palmas\, Spain
CATEGORIES:2023
END:VEVENT
BEGIN:VEVENT
DTSTART;VALUE=DATE:20230430
DTEND;VALUE=DATE:20230501
DTSTAMP:20260425T155540
CREATED:20230314T143152Z
LAST-MODIFIED:20240404T181259Z
UID:10000422-1682812800-1682899199@johnhenrycrawford.com
SUMMARY:Tchaikovsky Rococo Variations
DESCRIPTION:
URL:https://johnhenrycrawford.com/event/tchaikovsky-rococo-variations/
LOCATION:Mid Texas Symphony\, 1000 W Court St #3216\, Seguin\, TX\, 78155\, United States
CATEGORIES:2023
END:VEVENT
BEGIN:VEVENT
DTSTART;VALUE=DATE:20230403
DTEND;VALUE=DATE:20230404
DTSTAMP:20260425T155540
CREATED:20230314T143313Z
LAST-MODIFIED:20240404T181259Z
UID:10000423-1680480000-1680566399@johnhenrycrawford.com
SUMMARY:Rachmaninoff Sonata with Yinuo Wang
DESCRIPTION:
URL:https://johnhenrycrawford.com/event/rachmaninoff-sonata-with-yinuo-wang/
LOCATION:The Lilacs NYC\, New York City\, NY\, United States
CATEGORIES:2023
END:VEVENT
BEGIN:VEVENT
DTSTART;VALUE=DATE:20230322
DTEND;VALUE=DATE:20230325
DTSTAMP:20260425T155540
CREATED:20230314T143534Z
LAST-MODIFIED:20240404T181259Z
UID:10000424-1679443200-1679702399@johnhenrycrawford.com
SUMMARY:Recording at Sykwalker Ranch
DESCRIPTION:
URL:https://johnhenrycrawford.com/event/recording-at-sykwalker-ranch/
LOCATION:San Francisco Ballet Orchestra\, 301 Van Ness Avenue\, San Francisco\, CA\, 94102\, United States
CATEGORIES:2023
END:VEVENT
BEGIN:VEVENT
DTSTART;VALUE=DATE:20230311
DTEND;VALUE=DATE:20230312
DTSTAMP:20260425T155540
CREATED:20230314T143642Z
LAST-MODIFIED:20240404T181316Z
UID:10000425-1678492800-1678579199@johnhenrycrawford.com
SUMMARY:Ravel Duo and Cassado Solo Suite with violinist Rubén Rengel
DESCRIPTION:
URL:https://johnhenrycrawford.com/event/ravel-duo-and-cassado-solo-suite-with-violinist-ruben-rengel/
LOCATION:Caramoor Center for Music and the Arts\, 149 Girdle Ridge Rd\, Katonah\, NY\, 10536\, United States
CATEGORIES:2023
END:VEVENT
BEGIN:VEVENT
DTSTART;VALUE=DATE:20230201
DTEND;VALUE=DATE:20230213
DTSTAMP:20260425T155540
CREATED:20230314T143824Z
LAST-MODIFIED:20240404T181316Z
UID:10000426-1675209600-1676246399@johnhenrycrawford.com
SUMMARY:Music@ Menlo Winter Residency
DESCRIPTION:
URL:https://johnhenrycrawford.com/event/music-menlo-winter-residency/
LOCATION:Menlo Winter Residency\, 50 Valparaiso Avenue\, Atherton\, CA\, 94027\, United States
CATEGORIES:2023
END:VEVENT
BEGIN:VEVENT
DTSTART;VALUE=DATE:20220802
DTEND;VALUE=DATE:20220815
DTSTAMP:20260425T155540
CREATED:20220428T135242Z
LAST-MODIFIED:20240404T181340Z
UID:10000420-1659398400-1660521599@johnhenrycrawford.com
SUMMARY:Festival International De Violonchelo
DESCRIPTION:Solo Concerts and Masterclasses
URL:https://johnhenrycrawford.com/event/festival-international-de-violonchelo/
LOCATION:Festival International De Violonchelo\, Leon\, Mexico
CATEGORIES:2022
END:VEVENT
BEGIN:VEVENT
DTSTART;VALUE=DATE:20220629
DTEND;VALUE=DATE:20220718
DTSTAMP:20260425T155540
CREATED:20220428T135136Z
LAST-MODIFIED:20240404T181341Z
UID:10000419-1656460800-1658102399@johnhenrycrawford.com
SUMMARY:Sitka International Cello Seminar
DESCRIPTION:directed by Zuill Bailey\, Martin Sher (New World Symphony)
URL:https://johnhenrycrawford.com/event/sitka-international-cello-seminar/
LOCATION:Sitka International Cello Seminar\, Sitka\, AK\, United States
CATEGORIES:2022
END:VEVENT
BEGIN:VEVENT
DTSTART;VALUE=DATE:20220623
DTEND;VALUE=DATE:20220626
DTSTAMP:20260425T155540
CREATED:20220428T135019Z
LAST-MODIFIED:20240404T181341Z
UID:10000418-1655942400-1656201599@johnhenrycrawford.com
SUMMARY:Methow Valley Chamber Music Series
DESCRIPTION:Tchaikovsky Piano Trio with Grace Park\, and Zhenni-Li Cohen\nSchumann Piano Quintet\, Strauss Capriccio for String Sextet.
URL:https://johnhenrycrawford.com/event/methow-valley-chamber-music-series/
LOCATION:Twisp Terrace Lodge\, 20556 State Route 20\, Twisp\, WA\, 98856\, United States
CATEGORIES:2022
END:VEVENT
BEGIN:VEVENT
DTSTART;VALUE=DATE:20220615
DTEND;VALUE=DATE:20220616
DTSTAMP:20260425T155540
CREATED:20220428T134815Z
LAST-MODIFIED:20240404T181341Z
UID:10000417-1655251200-1655337599@johnhenrycrawford.com
SUMMARY:Indianapolis NFMC National Conference
DESCRIPTION:solo recital
URL:https://johnhenrycrawford.com/event/indianapolis-nfmc-national-conference/
LOCATION:Indianapolis NFMC National Conference\, IN\, United States
CATEGORIES:2022
END:VEVENT
BEGIN:VEVENT
DTSTART;VALUE=DATE:20220422
DTEND;VALUE=DATE:20220423
DTSTAMP:20260425T155540
CREATED:20220428T134709Z
LAST-MODIFIED:20240404T181341Z
UID:10000416-1650585600-1650671999@johnhenrycrawford.com
SUMMARY:South Carolina Federation of Music Clubs
DESCRIPTION:Solo Recital with Pianist Mildred Roche\nBeethoven 7 Variations\, Schumann Fantasiestucke\, Prokofiev Sonata
URL:https://johnhenrycrawford.com/event/south-carolina-federation-of-music-clubs/
LOCATION:South Carolina Federation of Music Clubs\, Spartanburg\, SC\, United States
CATEGORIES:2022
END:VEVENT
BEGIN:VEVENT
DTSTART;TZID=America/Chicago:20220129T193000
DTEND;TZID=America/Chicago:20220129T193000
DTSTAMP:20260425T155540
CREATED:20210706T162715Z
LAST-MODIFIED:20240404T181341Z
UID:10000410-1643484600-1643484600@johnhenrycrawford.com
SUMMARY:John-Henry Crawford Plays Haydn
DESCRIPTION:Haydn D Major Concerto and Sollima Violoncelles Vibrez! \nConductor: Michael Butterman
URL:https://johnhenrycrawford.com/event/john-henry-crawford-plays-haydn/
LOCATION:Shreveport Symphony\, 616 Jordan St\,\, Shreveport\, LA\, 71101\, United States
CATEGORIES:2022
END:VEVENT
BEGIN:VEVENT
DTSTART;VALUE=DATE:20211106
DTEND;VALUE=DATE:20211115
DTSTAMP:20260425T155540
CREATED:20210618T203649Z
LAST-MODIFIED:20240404T181413Z
UID:10000412-1636156800-1636934399@johnhenrycrawford.com
SUMMARY:Festival International de Violoncello\, Guest Artist\, Masterclasses and Concerts
DESCRIPTION:
URL:https://johnhenrycrawford.com/event/festival-international-de-violoncello-guest-artist-masterclasses-and-concerts/
LOCATION:Festival International de Violoncello\, Leon\, Mexico
CATEGORIES:2021
END:VEVENT
BEGIN:VEVENT
DTSTART;VALUE=DATE:20211024
DTEND;VALUE=DATE:20211025
DTSTAMP:20260425T155540
CREATED:20211014T143027Z
LAST-MODIFIED:20240404T181413Z
UID:10000415-1635033600-1635119999@johnhenrycrawford.com
SUMMARY:Tchaikovsky Rococo Variations\, Greenwich Villiage Orchestra\, NY\, NY.
DESCRIPTION:
URL:https://johnhenrycrawford.com/event/tchaikovsky-rococo-variations-greenwich-villiage-orchestra-ny-ny/
LOCATION:Greenwich Villiage Orchestra\, New York\, NY\, United States
CATEGORIES:2021
END:VEVENT
BEGIN:VEVENT
DTSTART;TZID=America/Chicago:20211016T160000
DTEND;TZID=America/Chicago:20211016T160000
DTSTAMP:20260425T155540
CREATED:20211014T142919Z
LAST-MODIFIED:20240404T181413Z
UID:10000414-1634400000-1634400000@johnhenrycrawford.com
SUMMARY:Recital with Pianist Victor Asucion
DESCRIPTION:
URL:https://johnhenrycrawford.com/event/recital-with-pianist-victor-asucion-charles-gates-dawes-house-evanston-il/
LOCATION:Charles Gates Dawes House\, 225 Greenwood St\, Evanston\, IL\, 60201\, United States
CATEGORIES:2021
END:VEVENT
BEGIN:VEVENT
DTSTART;TZID=America/Chicago:20211014T193000
DTEND;TZID=America/Chicago:20211014T193000
DTSTAMP:20260425T155540
CREATED:20211014T142652Z
LAST-MODIFIED:20240404T181413Z
UID:10000413-1634239800-1634239800@johnhenrycrawford.com
SUMMARY:Recital with Pianist Victor Asucion. PianoForte Foundation Chicago\, IL
DESCRIPTION:
URL:https://johnhenrycrawford.com/event/recital-with-pianist-victor-asucion-pianoforte-foundation-chicago-il/
LOCATION:Pianoforte Foundation\, 1335 S. Michigan Ave. \, Chicago\, IL\, 60605\, United States
CATEGORIES:2021
GEO:41.8647718;-87.6236774
X-APPLE-STRUCTURED-LOCATION;VALUE=URI;X-ADDRESS=Pianoforte Foundation 1335 S. Michigan Ave.  Chicago IL 60605 United States;X-APPLE-RADIUS=500;X-TITLE=1335 S. Michigan Ave.:geo:-87.6236774,41.8647718
END:VEVENT
BEGIN:VEVENT
DTSTART;VALUE=DATE:20210802
DTEND;VALUE=DATE:20210808
DTSTAMP:20260425T155540
CREATED:20210618T203518Z
LAST-MODIFIED:20240404T181413Z
UID:10000411-1627862400-1628380799@johnhenrycrawford.com
SUMMARY:Texas Cello School\, Guest Artist\, Masterclasses and Concerts
DESCRIPTION:
URL:https://johnhenrycrawford.com/event/texas-cello-school-guest-artist-masterclasses-and-concerts/
LOCATION:Texas Cello School\, 13101 PRESTON RD. STE 110#3271\, Dallas\, TX\, 75240\, United States
CATEGORIES:2021
END:VEVENT
BEGIN:VEVENT
DTSTART;TZID=America/Chicago:20210624T193000
DTEND;TZID=America/Chicago:20210624T193000
DTSTAMP:20260425T155540
CREATED:20210618T202428Z
LAST-MODIFIED:20240404T181413Z
UID:10000409-1624563000-1624563000@johnhenrycrawford.com
SUMMARY:Solo Performance - Bach
DESCRIPTION:
URL:https://johnhenrycrawford.com/event/solo-performance-bach/
LOCATION:High Line Nine\, 507 W 27th St\, New York\, NY\, 10001\, United States
CATEGORIES:2021
END:VEVENT
BEGIN:VEVENT
DTSTART;VALUE=DATE:20210517
DTEND;VALUE=DATE:20210518
DTSTAMP:20260425T155540
CREATED:20210412T144550Z
LAST-MODIFIED:20240404T181413Z
UID:10000408-1621209600-1621295999@johnhenrycrawford.com
SUMMARY:Musicale Shreveport\, Private Venue
DESCRIPTION:Bach\, Brahms\, Piatti\, Glazunov
URL:https://johnhenrycrawford.com/event/musicale-shreveport-private-venue/
LOCATION:Musicale Shreveport\, Private Venue\, Shreveport\, LA\, United States
CATEGORIES:2021
END:VEVENT
BEGIN:VEVENT
DTSTART;TZID=America/Chicago:20210516T150000
DTEND;TZID=America/Chicago:20210516T150000
DTSTAMP:20260425T155540
CREATED:20210412T144359Z
LAST-MODIFIED:20240404T181413Z
UID:10000407-1621177200-1621177200@johnhenrycrawford.com
SUMMARY:The Noel Foundation\, Inc. Chamber Music Series
DESCRIPTION:PROKOFIEV Overture on Hebrew Themes\, Op. 34\nBrahms Selected Songs for cello and Piano\nBRAHMS Piano Quintet in F minor\, Op. 34
URL:https://johnhenrycrawford.com/event/the-noel-foundation-inc-chamber-music-series/
LOCATION:Noel Foundation Chamber\, 543 Ockley Dr\, Shreveport\, LA\, 71106\, United States
CATEGORIES:2021
ATTACH;FMTTYPE=image/jpeg:https://johnhenrycrawford.com/wp-content/uploads/2021/04/Yontov-Casual-768x405-1.jpg
END:VEVENT
END:VCALENDAR