BEGIN:VCALENDAR
VERSION:2.0
PRODID:-//John-Henry Crawford - ECPv6.15.20//NONSGML v1.0//EN
CALSCALE:GREGORIAN
METHOD:PUBLISH
X-WR-CALNAME:John-Henry Crawford
X-ORIGINAL-URL:https://johnhenrycrawford.com
X-WR-CALDESC:Events for John-Henry Crawford
REFRESH-INTERVAL;VALUE=DURATION:PT1H
X-Robots-Tag:noindex
X-PUBLISHED-TTL:PT1H
BEGIN:VTIMEZONE
TZID:America/Chicago
BEGIN:DAYLIGHT
TZOFFSETFROM:-0600
TZOFFSETTO:-0500
TZNAME:CDT
DTSTART:20220313T080000
END:DAYLIGHT
BEGIN:STANDARD
TZOFFSETFROM:-0500
TZOFFSETTO:-0600
TZNAME:CST
DTSTART:20221106T070000
END:STANDARD
BEGIN:DAYLIGHT
TZOFFSETFROM:-0600
TZOFFSETTO:-0500
TZNAME:CDT
DTSTART:20230312T080000
END:DAYLIGHT
BEGIN:STANDARD
TZOFFSETFROM:-0500
TZOFFSETTO:-0600
TZNAME:CST
DTSTART:20231105T070000
END:STANDARD
BEGIN:DAYLIGHT
TZOFFSETFROM:-0600
TZOFFSETTO:-0500
TZNAME:CDT
DTSTART:20240310T080000
END:DAYLIGHT
BEGIN:STANDARD
TZOFFSETFROM:-0500
TZOFFSETTO:-0600
TZNAME:CST
DTSTART:20241103T070000
END:STANDARD
BEGIN:DAYLIGHT
TZOFFSETFROM:-0600
TZOFFSETTO:-0500
TZNAME:CDT
DTSTART:20250309T080000
END:DAYLIGHT
BEGIN:STANDARD
TZOFFSETFROM:-0500
TZOFFSETTO:-0600
TZNAME:CST
DTSTART:20251102T070000
END:STANDARD
BEGIN:DAYLIGHT
TZOFFSETFROM:-0600
TZOFFSETTO:-0500
TZNAME:CDT
DTSTART:20260308T080000
END:DAYLIGHT
BEGIN:STANDARD
TZOFFSETFROM:-0500
TZOFFSETTO:-0600
TZNAME:CST
DTSTART:20261101T070000
END:STANDARD
BEGIN:DAYLIGHT
TZOFFSETFROM:-0600
TZOFFSETTO:-0500
TZNAME:CDT
DTSTART:20270314T080000
END:DAYLIGHT
BEGIN:STANDARD
TZOFFSETFROM:-0500
TZOFFSETTO:-0600
TZNAME:CST
DTSTART:20271107T070000
END:STANDARD
END:VTIMEZONE
BEGIN:VEVENT
DTSTART;TZID=America/Chicago:20260419T150000
DTEND;TZID=America/Chicago:20260419T170000
DTSTAMP:20260425T124033
CREATED:20251029T195207Z
LAST-MODIFIED:20260323T211639Z
UID:10000577-1776610800-1776618000@johnhenrycrawford.com
SUMMARY:Holocaust Memorial
DESCRIPTION:
URL:https://johnhenrycrawford.com/event/holocaust-memorial/
LOCATION:First United Methodist Church\, 5550 Common Street\, Shreveport\, LA\, 71101\, United States
CATEGORIES:2026
END:VEVENT
BEGIN:VEVENT
DTSTART;TZID=America/Chicago:20260411T080000
DTEND;TZID=America/Chicago:20260411T170000
DTSTAMP:20260425T124033
CREATED:20251029T195346Z
LAST-MODIFIED:20251029T195346Z
UID:10000578-1775894400-1775926800@johnhenrycrawford.com
SUMMARY:Cellobration
DESCRIPTION:
URL:https://johnhenrycrawford.com/event/cellobration/
LOCATION:El Paso Pro Musica\, UTEP\, 500 W. University\, El Paso\, TX\, 79913\, United States
CATEGORIES:2026
END:VEVENT
BEGIN:VEVENT
DTSTART;TZID=America/Chicago:20260331T180000
DTEND;TZID=America/Chicago:20260331T210000
DTSTAMP:20260425T124033
CREATED:20260323T210433Z
LAST-MODIFIED:20260323T210433Z
UID:10000585-1774980000-1774990800@johnhenrycrawford.com
SUMMARY:Marinus Concerts\, Schubert Cello Quintet and Haydn Emperor Quartet
DESCRIPTION:The concert opens with the radiant elegance of Haydn’s “Emperor” Quartet\, a work that balances noble simplicity with warmth and wit\, embodying the sense of shared conversation that lies at the core of chamber music. From here we turn inward to two of J.S. Bach’s most intimate and searching works\, Erbarme Dich and Ich ruf zu dir\, Herr Jesu. In these pieces\, Bach distills profound emotional depth into lines of extraordinary clarity and tenderness\, offering music that feels both deeply personal and universally consoling. The program culminates in Schubert’s monumental Cello Quintet\, a masterpiece that embraces the full range of human experience—from luminous serenity to aching vulnerability. Written near the end of the composer’s life\, the quintet feels like a testament to friendship that is already looking to the world beyond.
URL:https://johnhenrycrawford.com/event/marinus-concerts-schubert-cello-quintet-and-haydn-emperor-quartet/
LOCATION:King Family Vineyard\, 6550 Roseland Farm\, Crozet\, VA\, 22932\, United States
CATEGORIES:2026
END:VEVENT
BEGIN:VEVENT
DTSTART;TZID=America/Chicago:20251219T080000
DTEND;TZID=America/Chicago:20251219T170000
DTSTAMP:20260425T124033
CREATED:20251104T221606Z
LAST-MODIFIED:20251104T221606Z
UID:10000584-1766131200-1766163600@johnhenrycrawford.com
SUMMARY:Texas Cello Quartet
DESCRIPTION:
URL:https://johnhenrycrawford.com/event/texas-cello-quartet/
LOCATION:Texas Cello Quartet\, Fredericksburg\, TX\, United States
CATEGORIES:2025
END:VEVENT
BEGIN:VEVENT
DTSTART;TZID=America/Chicago:20251207T080000
DTEND;TZID=America/Chicago:20251207T080000
DTSTAMP:20260425T124033
CREATED:20251029T200138Z
LAST-MODIFIED:20251103T182656Z
UID:10000583-1765094400-1765094400@johnhenrycrawford.com
SUMMARY:Private
DESCRIPTION:
URL:https://johnhenrycrawford.com/event/private/
LOCATION:New York Yacht Club\, 37 West 44th Street\, New York\, NY\, 10036\, United States
CATEGORIES:2025
END:VEVENT
BEGIN:VEVENT
DTSTART;TZID=America/Chicago:20251115T080000
DTEND;TZID=America/Chicago:20251115T170000
DTSTAMP:20260425T124033
CREATED:20251029T200621Z
LAST-MODIFIED:20251104T153045Z
UID:10000579-1763193600-1763226000@johnhenrycrawford.com
SUMMARY:Strauss Cello Sonata with Orchestra Futures and Robby Meese
DESCRIPTION:
URL:https://johnhenrycrawford.com/event/strauss-cello-sonata-with-orchestra-futures-and-robby-meese/
LOCATION:Holy Trinity Lutheran Church\, 53 Central Park West\, New York\, NY\, 10023\, United States
CATEGORIES:2025
ATTACH;FMTTYPE=image/png:https://johnhenrycrawford.com/wp-content/uploads/2025/11/Image-from-TinyPNG-1.png
END:VEVENT
BEGIN:VEVENT
DTSTART;TZID=America/Chicago:20251023T080000
DTEND;TZID=America/Chicago:20251023T170000
DTSTAMP:20260425T124033
CREATED:20251029T201454Z
LAST-MODIFIED:20251029T201808Z
UID:10000580-1761206400-1761238800@johnhenrycrawford.com
SUMMARY:Chamber Series
DESCRIPTION:
URL:https://johnhenrycrawford.com/event/chamber-series/
LOCATION:Trinity Church\, 33 Mercer St.\, Princeton\, NJ\, 08540\, United States
CATEGORIES:2025
END:VEVENT
BEGIN:VEVENT
DTSTART;TZID=America/Chicago:20251012T080000
DTEND;TZID=America/Chicago:20251012T170000
DTSTAMP:20260425T124033
CREATED:20251029T202204Z
LAST-MODIFIED:20251029T202204Z
UID:10000581-1760256000-1760288400@johnhenrycrawford.com
SUMMARY:Schubert Cello Quintet with the Vega String Quartet
DESCRIPTION:
URL:https://johnhenrycrawford.com/event/schubert-cello-quintet-with-the-vega-string-quartet/
LOCATION:Annsdale Estate\, 1325 Lamar Ave\, Memphis\, TN\, 38104\, United States
CATEGORIES:2025
END:VEVENT
BEGIN:VEVENT
DTSTART;TZID=America/Chicago:20250802T080000
DTEND;TZID=America/Chicago:20250802T170000
DTSTAMP:20260425T124033
CREATED:20251029T202513Z
LAST-MODIFIED:20251104T221124Z
UID:10000582-1754121600-1754154000@johnhenrycrawford.com
SUMMARY:Festival International de Violonchelo
DESCRIPTION:
URL:https://johnhenrycrawford.com/event/festival-international-de-violonchelo-2/
LOCATION:Festival Internacional de Violonchelo\, Leon\, Guanajuato\, Mexico
CATEGORIES:2025
END:VEVENT
BEGIN:VEVENT
DTSTART;TZID=America/Chicago:20250628T173000
DTEND;TZID=America/Chicago:20250628T190000
DTSTAMP:20260425T124033
CREATED:20250415T170730Z
LAST-MODIFIED:20250415T171034Z
UID:10000455-1751131800-1751137200@johnhenrycrawford.com
SUMMARY:Sitka Music Festival
DESCRIPTION:
URL:https://johnhenrycrawford.com/event/sitka-music-festival-2/2025-06-28/
LOCATION:Sitka Music Festival\, Sitka\, AK\, United States
CATEGORIES:2025
END:VEVENT
BEGIN:VEVENT
DTSTART;TZID=America/Chicago:20250625T173000
DTEND;TZID=America/Chicago:20250625T190000
DTSTAMP:20260425T124034
CREATED:20250415T170730Z
LAST-MODIFIED:20250415T171034Z
UID:10000454-1750872600-1750878000@johnhenrycrawford.com
SUMMARY:Sitka Music Festival
DESCRIPTION:
URL:https://johnhenrycrawford.com/event/sitka-music-festival-2/2025-06-25/
LOCATION:Sitka Music Festival\, Sitka\, AK\, United States
CATEGORIES:2025
END:VEVENT
BEGIN:VEVENT
DTSTART;TZID=America/Chicago:20250621T080000
DTEND;TZID=America/Chicago:20250621T170000
DTSTAMP:20260425T124034
CREATED:20250415T170515Z
LAST-MODIFIED:20250415T172756Z
UID:10000453-1750492800-1750525200@johnhenrycrawford.com
SUMMARY:Methow Valley Chamber Festival
DESCRIPTION:
URL:https://johnhenrycrawford.com/event/methow-valley-chamber-festival-2/2025-06-21/
LOCATION:Methow Valley Community Center\, 201 State Rte 20\, Twisp\, WA\, 98856\, United States
CATEGORIES:2025
END:VEVENT
BEGIN:VEVENT
DTSTART;TZID=America/Chicago:20250619T080000
DTEND;TZID=America/Chicago:20250619T170000
DTSTAMP:20260425T124034
CREATED:20250415T170515Z
LAST-MODIFIED:20250415T172756Z
UID:10000452-1750320000-1750352400@johnhenrycrawford.com
SUMMARY:Methow Valley Chamber Festival
DESCRIPTION:
URL:https://johnhenrycrawford.com/event/methow-valley-chamber-festival-2/2025-06-19/
LOCATION:Methow Valley Community Center\, 201 State Rte 20\, Twisp\, WA\, 98856\, United States
CATEGORIES:2025
END:VEVENT
BEGIN:VEVENT
DTSTART;TZID=America/Chicago:20250609T080000
DTEND;TZID=America/Chicago:20250609T170000
DTSTAMP:20260425T124034
CREATED:20250415T165928Z
LAST-MODIFIED:20250415T172458Z
UID:10000451-1749456000-1749488400@johnhenrycrawford.com
SUMMARY:Summer Music Festival Orchestra
DESCRIPTION:Tchaikovsky’s Rococo Variations\, with conductor Kermit Poling
URL:https://johnhenrycrawford.com/event/summer-music-festival-orchestra/
LOCATION:Church of the Holy Cross Episcopal\, 875 Cotton St\, Shreveport\, 71101\, United States
CATEGORIES:2025
END:VEVENT
BEGIN:VEVENT
DTSTART;TZID=America/Chicago:20250424T080000
DTEND;TZID=America/Chicago:20250424T170000
DTSTAMP:20260425T124034
CREATED:20250415T165443Z
LAST-MODIFIED:20250415T172907Z
UID:10000450-1745481600-1745514000@johnhenrycrawford.com
SUMMARY:Private Recital/Presentation
DESCRIPTION:
URL:https://johnhenrycrawford.com/event/private-recital-presentation/
LOCATION:Private Venue\, Hamilton\, ON\, Canada
CATEGORIES:2025
GEO:38.9338676;-77.1772604
END:VEVENT
BEGIN:VEVENT
DTSTART;TZID=America/Chicago:20250317T190000
DTEND;TZID=America/Chicago:20250317T210000
DTSTAMP:20260425T124034
CREATED:20250415T165140Z
LAST-MODIFIED:20250415T165140Z
UID:10000449-1742238000-1742245200@johnhenrycrawford.com
SUMMARY:Chamber Music With Mira Wang\, David Krakauer\, Nathan Meltzer\, Ulrich Eichenauer
DESCRIPTION:
URL:https://johnhenrycrawford.com/event/chamber-music-with-mira-wang-david-krakauer-nathan-meltzer-ulrich-eichenauer/
LOCATION:New York Yacht Club\, 37 West 44th Street\, New York\, NY\, 10036\, United States
CATEGORIES:2025
END:VEVENT
BEGIN:VEVENT
DTSTART;VALUE=DATE:20241210
DTEND;VALUE=DATE:20241218
DTSTAMP:20260425T124034
CREATED:20240627T201037Z
LAST-MODIFIED:20240627T201037Z
UID:10000448-1733788800-1734479999@johnhenrycrawford.com
SUMMARY:Corazón: The Music of Latin America
DESCRIPTION:
URL:https://johnhenrycrawford.com/event/corazon-the-music-of-latin-america/
LOCATION:Northwest Bach Festival\, Spokane\, WA\, United States
CATEGORIES:2024
END:VEVENT
BEGIN:VEVENT
DTSTART;VALUE=DATE:20241127
DTEND;VALUE=DATE:20241129
DTSTAMP:20260425T124034
CREATED:20240627T200941Z
LAST-MODIFIED:20240627T200941Z
UID:10000447-1732665600-1732838399@johnhenrycrawford.com
SUMMARY:Piano Trios with Diomedes Saraza\, Victor Santiago Asunción
DESCRIPTION:
URL:https://johnhenrycrawford.com/event/piano-trios-with-diomedes-saraza-victor-santiago-asuncion/
LOCATION:Manila\, Phillippines\, Manila\, Philippines
CATEGORIES:2024
END:VEVENT
BEGIN:VEVENT
DTSTART;VALUE=DATE:20241103
DTEND;VALUE=DATE:20241104
DTSTAMP:20260425T124034
CREATED:20240627T200834Z
LAST-MODIFIED:20240627T200834Z
UID:10000446-1730592000-1730678399@johnhenrycrawford.com
SUMMARY:Robert Popper Memorial Concert
DESCRIPTION:
URL:https://johnhenrycrawford.com/event/robert-popper-memorial-concert/
LOCATION:Dallas Human Rights and Holocaust Museum\, 300 N. Houston\, Dallas\, TX\, 75202\, United States
CATEGORIES:2024
END:VEVENT
BEGIN:VEVENT
DTSTART;TZID=America/Chicago:20241027T160000
DTEND;TZID=America/Chicago:20241027T160000
DTSTAMP:20260425T124034
CREATED:20240517T202753Z
LAST-MODIFIED:20240517T202753Z
UID:10000444-1730044800-1730044800@johnhenrycrawford.com
SUMMARY:Saint-Saëns Cello Concerto No. 1
DESCRIPTION:Israel Getzov\, Conductor
URL:https://johnhenrycrawford.com/event/saint-saens-cello-concerto-no-1/
LOCATION:Windgate Center for Fine and Performing Arts Concert Hall\, 2150 Bruce St\, Conway\, AR\, 72035\, United States
CATEGORIES:2024
END:VEVENT
BEGIN:VEVENT
DTSTART;VALUE=DATE:20240810
DTEND;VALUE=DATE:20240811
DTSTAMP:20260425T124034
CREATED:20240627T200650Z
LAST-MODIFIED:20240627T200650Z
UID:10000445-1723248000-1723334399@johnhenrycrawford.com
SUMMARY:Haydn C Major Concerto\, Román Revueltas
DESCRIPTION:
URL:https://johnhenrycrawford.com/event/haydn-c-major-concerto-roman-revueltas/
LOCATION:Orquesta Sinfonica de Aguascalientes\, Aguascalientes\, Mexico
CATEGORIES:2024
END:VEVENT
BEGIN:VEVENT
DTSTART;VALUE=DATE:20240725
DTEND;VALUE=DATE:20240804
DTSTAMP:20260425T124034
CREATED:20240404T181704Z
LAST-MODIFIED:20240404T181704Z
UID:10000443-1721865600-1722729599@johnhenrycrawford.com
SUMMARY:Guest Artist and Professor Festival Internacional de Violonchelo
DESCRIPTION:
URL:https://johnhenrycrawford.com/event/guest-artist-and-professor-festival-internacional-de-violonchelo/
LOCATION:Festival Internacional de Violonchelo\, Leon\, Guanajuato\, Mexico
CATEGORIES:2024
END:VEVENT
BEGIN:VEVENT
DTSTART;VALUE=DATE:20240620
DTEND;VALUE=DATE:20240623
DTSTAMP:20260425T124034
CREATED:20240402T181107Z
LAST-MODIFIED:20240404T181223Z
UID:10000442-1718841600-1719100799@johnhenrycrawford.com
SUMMARY:Methow Valley Chamber Music Festival
DESCRIPTION:
URL:https://johnhenrycrawford.com/event/methow-valley-chamber-music-festival/
LOCATION:Methow Valley Chamber Music Festival\, Twisp\, WA\, United States
CATEGORIES:2024
END:VEVENT
BEGIN:VEVENT
DTSTART;TZID=America/Chicago:20240609T150000
DTEND;TZID=America/Chicago:20240609T150000
DTSTAMP:20260425T124034
CREATED:20240402T180836Z
LAST-MODIFIED:20240517T202500Z
UID:10000441-1717945200-1717945200@johnhenrycrawford.com
SUMMARY:Haydn C Major Concerto
DESCRIPTION:Kermit Poling\, conductor
URL:https://johnhenrycrawford.com/event/haydn-c-major-concerto/
LOCATION:Church of the Holy Cross Episcopal\, 875 Cotton St\, Shreveport\, 71101\, United States
CATEGORIES:2024
END:VEVENT
BEGIN:VEVENT
DTSTART;VALUE=DATE:20240531
DTEND;VALUE=DATE:20240601
DTSTAMP:20260425T124034
CREATED:20240402T180710Z
LAST-MODIFIED:20240404T181223Z
UID:10000440-1717113600-1717199999@johnhenrycrawford.com
SUMMARY:Music of Barber\, Gershwin\, Foss\, Beach and Rachmaninoff
DESCRIPTION:
URL:https://johnhenrycrawford.com/event/music-of-barber-gershwin-foss-beach-and-rachmaninoff/
LOCATION:Iglesia Hospitalaria San Pedro Marti de Verona\, Telde\, Gran Canaria\, Gran Canaria\, Spain
CATEGORIES:2024
END:VEVENT
BEGIN:VEVENT
DTSTART;VALUE=DATE:20240528
DTEND;VALUE=DATE:20240529
DTSTAMP:20260425T124034
CREATED:20240402T180610Z
LAST-MODIFIED:20240404T181223Z
UID:10000439-1716854400-1716940799@johnhenrycrawford.com
SUMMARY:Corazón: The Music of Latin America Victor Santiago Asuncion
DESCRIPTION:
URL:https://johnhenrycrawford.com/event/corazon-the-music-of-latin-america-victor-santiago-asuncion/
LOCATION:PARANINFO Universidad de LPGC Las Palmas\, PALACETE RODRÍGUEZ QUEGLES\, Las Palmas\, Gran Canaria\, Gran Canaria\, 35002\, Spain
CATEGORIES:2024
END:VEVENT
BEGIN:VEVENT
DTSTART;VALUE=DATE:20240418
DTEND;VALUE=DATE:20240419
DTSTAMP:20260425T124034
CREATED:20240402T180400Z
LAST-MODIFIED:20240404T181223Z
UID:10000438-1713398400-1713484799@johnhenrycrawford.com
SUMMARY:Stephen Volk Memorial Justin Abrahms\, Chelsea Wang
DESCRIPTION:
URL:https://johnhenrycrawford.com/event/stephen-volk-memorial/
LOCATION:Park Avenue Synagogue\, 50 E 87th St\, New York\, NY\, 10128\, United States
CATEGORIES:2024
END:VEVENT
BEGIN:VEVENT
DTSTART;VALUE=DATE:20240323
DTEND;VALUE=DATE:20240324
DTSTAMP:20260425T124034
CREATED:20240402T180225Z
LAST-MODIFIED:20240404T181223Z
UID:10000437-1711152000-1711238399@johnhenrycrawford.com
SUMMARY:Mendelssohn Piano Trio in D Minor\, Gershwin\, Piazzolla Victor Asuncion\, Diomedes Saraza
DESCRIPTION:
URL:https://johnhenrycrawford.com/event/mendelssohn-piano-trio-in-d-minor-gershwin-piazzolla-victor-asuncion-diomedes-saraza/
LOCATION:Lauderdale by the Sea\, 4501 North Ocean Drive\, Lauderdale-By-The-Sea\, FL\, 33308\, United States
CATEGORIES:2024
END:VEVENT
BEGIN:VEVENT
DTSTART;VALUE=DATE:20240229
DTEND;VALUE=DATE:20240301
DTSTAMP:20260425T124034
CREATED:20240402T180037Z
LAST-MODIFIED:20240404T181223Z
UID:10000436-1709164800-1709251199@johnhenrycrawford.com
SUMMARY:Corazón: The Music of Latin America with Victor Santiago Asuncion
DESCRIPTION:
URL:https://johnhenrycrawford.com/event/corazon-the-music-of-latin-america-with-victor-santiago-asuncion/
LOCATION:El Paso Pro Musica\, UTEP\, 500 W. University\, El Paso\, TX\, 79913\, United States
CATEGORIES:2024
END:VEVENT
BEGIN:VEVENT
DTSTART;VALUE=DATE:20231210
DTEND;VALUE=DATE:20231211
DTSTAMP:20260425T124034
CREATED:20240402T175913Z
LAST-MODIFIED:20240404T181258Z
UID:10000435-1702166400-1702252799@johnhenrycrawford.com
SUMMARY:Clara Schumann Piano Trio\, Boulanger Trois Pieces. with Philippe Quint and Jessica Choe
DESCRIPTION:
URL:https://johnhenrycrawford.com/event/clara-schumann-piano-trio-boulanger-trois-pieces-with-philippe-quint-and-jessica-choe/
LOCATION:WFMT Radio Performance\, Chicago\, IL\, United States
CATEGORIES:2023
END:VEVENT
END:VCALENDAR